BEGIN:VCALENDAR
VERSION:2.0
PRODID:spatie/icalendar-generator
DESCRIPTION:Events from GOAT Ballers
X-WR-CALDESC:Events from GOAT Ballers
REFRESH-INTERVAL;VALUE=DURATION:PT1440M
X-PUBLISHED-TTL:PT1440M
BEGIN:VTIMEZONE
TZID:America/New_York
BEGIN:STANDARD
DTSTART:20251102T020000Z
TZOFFSETFROM:-0400
TZOFFSETTO:-0500
END:STANDARD
BEGIN:DAYLIGHT
DTSTART:20260308T020000Z
TZOFFSETFROM:-0500
TZOFFSETTO:-0400
END:DAYLIGHT
END:VTIMEZONE
BEGIN:VTIMEZONE
TZID:UTC
BEGIN:STANDARD
DTSTART:20250724T111612Z
TZOFFSETFROM:+0000
TZOFFSETTO:+0000
END:STANDARD
END:VTIMEZONE
BEGIN:VEVENT
UID:157-4
DTSTAMP:20260420T111612Z
SUMMARY:Future Ballers U5-U9 Winter
LOCATION:St. Michael (Corkery) School   Carp Ontario
ORGANIZER;CN=astro313:MAILTO:erni.papakroni@outlook.com
RRULE:FREQ=WEEKLY;UNTIL=20260131T000000Z
DTSTART;TZID=America/New_York:20260126T183000
DTEND;TZID=America/New_York:20260126T192500
X-ALT-DESC;FMTTYPE=TEXT/HTML:Winter Program – 18 sessions X 60 mins/sessi
 on. November 2025 through End of January 2026 Program Details: Duration: 
 November – January (3 Months) Schedule: Every Tuesday &amp;amp\; Thursday T
 ime U5-U8: 6:30 PM – 7:25 PM Join The BALLERS Family!
CATEGORIES:Future Ballers
URL;VALUE=URI:https://goatballers.com/?mc-events=future-ballers-u5-u9-winte
 r&amp;mc_id=157
METHOD:PUBLISH
END:VEVENT
END:VCALENDAR